BEGIN:VCALENDAR
VERSION:2.0
PRODID:-//IE UNIVERSITY LIBRARY - ECPv6.15.17.1//NONSGML v1.0//EN
CALSCALE:GREGORIAN
METHOD:PUBLISH
X-WR-CALNAME:IE UNIVERSITY LIBRARY
X-ORIGINAL-URL:https://library.ie.edu
X-WR-CALDESC:Events for IE UNIVERSITY LIBRARY
REFRESH-INTERVAL;VALUE=DURATION:PT1H
X-Robots-Tag:noindex
X-PUBLISHED-TTL:PT1H
BEGIN:VTIMEZONE
TZID:Europe/Helsinki
BEGIN:DAYLIGHT
TZOFFSETFROM:+0200
TZOFFSETTO:+0300
TZNAME:EEST
DTSTART:20200329T010000
END:DAYLIGHT
BEGIN:STANDARD
TZOFFSETFROM:+0300
TZOFFSETTO:+0200
TZNAME:EET
DTSTART:20201025T010000
END:STANDARD
BEGIN:DAYLIGHT
TZOFFSETFROM:+0200
TZOFFSETTO:+0300
TZNAME:EEST
DTSTART:20210328T010000
END:DAYLIGHT
BEGIN:STANDARD
TZOFFSETFROM:+0300
TZOFFSETTO:+0200
TZNAME:EET
DTSTART:20211031T010000
END:STANDARD
BEGIN:DAYLIGHT
TZOFFSETFROM:+0200
TZOFFSETTO:+0300
TZNAME:EEST
DTSTART:20220327T010000
END:DAYLIGHT
BEGIN:STANDARD
TZOFFSETFROM:+0300
TZOFFSETTO:+0200
TZNAME:EET
DTSTART:20221030T010000
END:STANDARD
END:VTIMEZONE
BEGIN:VEVENT
DTSTART;TZID=Europe/Helsinki:20211013T130000
DTEND;TZID=Europe/Helsinki:20211013T170000
DTSTAMP:20260422T062806
CREATED:20211013T084454Z
LAST-MODIFIED:20211013T120932Z
UID:38221-1634130000-1634144400@library.ie.edu
SUMMARY:Club Fair - October 2021
DESCRIPTION:October 13th \nMaria de Molina 31 \n13\,00 – 17\,00 \nRegister here
URL:https://library.ie.edu/event/club-fair-october-2021/
CATEGORIES:IE Events
END:VEVENT
END:VCALENDAR