BEGIN:VCALENDAR
VERSION:2.0
PRODID:-//IE UNIVERSITY LIBRARY - ECPv6.15.17.1//NONSGML v1.0//EN
CALSCALE:GREGORIAN
METHOD:PUBLISH
X-ORIGINAL-URL:https://library.ie.edu
X-WR-CALDESC:Events for IE UNIVERSITY LIBRARY
REFRESH-INTERVAL;VALUE=DURATION:PT1H
X-Robots-Tag:noindex
X-PUBLISHED-TTL:PT1H
BEGIN:VTIMEZONE
TZID:Europe/Madrid
BEGIN:DAYLIGHT
TZOFFSETFROM:+0100
TZOFFSETTO:+0200
TZNAME:CEST
DTSTART:20200329T010000
END:DAYLIGHT
BEGIN:STANDARD
TZOFFSETFROM:+0200
TZOFFSETTO:+0100
TZNAME:CET
DTSTART:20201025T010000
END:STANDARD
BEGIN:DAYLIGHT
TZOFFSETFROM:+0100
TZOFFSETTO:+0200
TZNAME:CEST
DTSTART:20210328T010000
END:DAYLIGHT
BEGIN:STANDARD
TZOFFSETFROM:+0200
TZOFFSETTO:+0100
TZNAME:CET
DTSTART:20211031T010000
END:STANDARD
BEGIN:DAYLIGHT
TZOFFSETFROM:+0100
TZOFFSETTO:+0200
TZNAME:CEST
DTSTART:20220327T010000
END:DAYLIGHT
BEGIN:STANDARD
TZOFFSETFROM:+0200
TZOFFSETTO:+0100
TZNAME:CET
DTSTART:20221030T010000
END:STANDARD
END:VTIMEZONE
BEGIN:VEVENT
DTSTART;TZID=Europe/Madrid:20210310T160000
DTEND;TZID=Europe/Madrid:20210310T170000
DTSTAMP:20260422T184452
CREATED:20210309T201718Z
LAST-MODIFIED:20210309T201841Z
UID:34939-1615392000-1615395600@library.ie.edu
SUMMARY:Arts & Humanities Division - Women's Leadership and Women's Rights
DESCRIPTION:The Arts and Humanities Division\, the Global and Public Affairs School and IE Women have teamed up with GWL Voices for Change and Inclusion to present the “Intergenerational Dialogues”. A series of inspiring talks between outstanding women leaders and our IE students. \nIE Library will be there and will offer to the attendees the option to expand their knowledge on these topics. \nEvent Details: \n– When: March 10th 4pm (CET)\n– Where: VHUB (Velazquez 130 -2\, Madrid)\n– Format: hybrid. You can attend Face-to-Face or online via Zoom \nRegistration link: https://clubs.ie.edu/humanities/rsvp_boot?id=300050790
URL:https://library.ie.edu/event/event/
LOCATION:Velazquez Building\, Madrid Campus\, Velazquez 130\, Madrid\, Madrid\, Spain
CATEGORIES:IE Events
ATTACH;FMTTYPE=image/png:https://library.ie.edu/wp-content/uploads/2021/03/r3_image_upload_300190513_EVENTO_IE_hybrid_format__22414925.png
END:VEVENT
END:VCALENDAR