BEGIN:VCALENDAR
VERSION:2.0
PRODID:-//IE UNIVERSITY LIBRARY - ECPv6.15.17.1//NONSGML v1.0//EN
CALSCALE:GREGORIAN
METHOD:PUBLISH
X-WR-CALNAME:IE UNIVERSITY LIBRARY
X-ORIGINAL-URL:https://library.ie.edu
X-WR-CALDESC:Events for IE UNIVERSITY LIBRARY
REFRESH-INTERVAL;VALUE=DURATION:PT1H
X-Robots-Tag:noindex
X-PUBLISHED-TTL:PT1H
BEGIN:VTIMEZONE
TZID:Europe/Paris
BEGIN:DAYLIGHT
TZOFFSETFROM:+0100
TZOFFSETTO:+0200
TZNAME:CEST
DTSTART:20240331T010000
END:DAYLIGHT
BEGIN:STANDARD
TZOFFSETFROM:+0200
TZOFFSETTO:+0100
TZNAME:CET
DTSTART:20241027T010000
END:STANDARD
BEGIN:DAYLIGHT
TZOFFSETFROM:+0100
TZOFFSETTO:+0200
TZNAME:CEST
DTSTART:20250330T010000
END:DAYLIGHT
BEGIN:STANDARD
TZOFFSETFROM:+0200
TZOFFSETTO:+0100
TZNAME:CET
DTSTART:20251026T010000
END:STANDARD
BEGIN:DAYLIGHT
TZOFFSETFROM:+0100
TZOFFSETTO:+0200
TZNAME:CEST
DTSTART:20260329T010000
END:DAYLIGHT
BEGIN:STANDARD
TZOFFSETFROM:+0200
TZOFFSETTO:+0100
TZNAME:CET
DTSTART:20261025T010000
END:STANDARD
END:VTIMEZONE
BEGIN:VEVENT
DTSTART;TZID=Europe/Paris:20250325T100000
DTEND;TZID=Europe/Paris:20250325T233000
DTSTAMP:20260423T003100
CREATED:20250314T085816Z
LAST-MODIFIED:20250317T112535Z
UID:51068-1742896800-1742945400@library.ie.edu
SUMMARY:Open Science Meet & Greet: Research Data Management
DESCRIPTION:Open Science Meet & Greet: Research Data Management \nJoin this first Open Science Meet & Greet\, starting with a networking breakfast\, followed by an insightful session on Research Data Management. \nParticipants will discuss insights and concerns on managing research data and discover how Open Science is transforming accessibility\, collaboration\, and innovation across disciplines.\nWe’re delighted to have Raúl Aguilera (Universidad Carlos III de Madrid) as our guest speaker\, who will drive the conversation. \nMarch 25\, 2025 | 10:00 – 11:30 AM \nIE Tower\, T-Hub 10 & 12.02 \nDon’t miss this opportunity to connect\, learn\, and share! \nRegister here
URL:https://library.ie.edu/event/open-science-meet-greet-research-data-management/
CATEGORIES:IE Events
ATTACH;FMTTYPE=image/png:https://library.ie.edu/wp-content/uploads/2025/03/OPEN-SCIENCE.png
END:VEVENT
BEGIN:VEVENT
DTSTART;TZID=Europe/Paris:20250603T100000
DTEND;TZID=Europe/Paris:20250603T233000
DTSTAMP:20260423T003100
CREATED:20250422T114957Z
LAST-MODIFIED:20250506T100216Z
UID:51291-1748944800-1748993400@library.ie.edu
SUMMARY:Open Science Meet & Greet: Open Access Fundamentals
DESCRIPTION:Open Science Meet & Greet: Open Access  \nJoin us again for an interactive session on open access practices after enjoying a coffee and light refreshments. During this session\, we will talk about: \n· Fundamentals and requirements of open access\n· Open Access colours: green\, gold\, diamond\, bronze and more\n· Creative Common licences\n· Repositories\n· Support provided by the IEU Library \nEnjoy your morning coffee while gaining valuable insights and engaging in meaningful discussions with fellow researchers. \n\nFood Provided\n\nJune 3\, 2025 | 10:00 – 11:30 AM \nIE Tower\, T-HUB 16 & T-16.01 \nDon’t miss this opportunity to connect\, learn\, and share! \nRegister here
URL:https://library.ie.edu/event/open-science-meet-greet-research-data-management-copy/
CATEGORIES:IE Events
ATTACH;FMTTYPE=image/png:https://library.ie.edu/wp-content/uploads/2025/04/OPEN-SCIENCE-MEETUP-12.png
END:VEVENT
END:VCALENDAR