BEGIN:VCALENDAR
VERSION:2.0
PRODID:-//IE UNIVERSITY LIBRARY - ECPv6.15.17.1//NONSGML v1.0//EN
CALSCALE:GREGORIAN
METHOD:PUBLISH
X-WR-CALNAME:IE UNIVERSITY LIBRARY
X-ORIGINAL-URL:https://library.ie.edu
X-WR-CALDESC:Events for IE UNIVERSITY LIBRARY
REFRESH-INTERVAL;VALUE=DURATION:PT1H
X-Robots-Tag:noindex
X-PUBLISHED-TTL:PT1H
BEGIN:VTIMEZONE
TZID:Europe/Paris
BEGIN:DAYLIGHT
TZOFFSETFROM:+0100
TZOFFSETTO:+0200
TZNAME:CEST
DTSTART:20250330T010000
END:DAYLIGHT
BEGIN:STANDARD
TZOFFSETFROM:+0200
TZOFFSETTO:+0100
TZNAME:CET
DTSTART:20251026T010000
END:STANDARD
BEGIN:DAYLIGHT
TZOFFSETFROM:+0100
TZOFFSETTO:+0200
TZNAME:CEST
DTSTART:20260329T010000
END:DAYLIGHT
BEGIN:STANDARD
TZOFFSETFROM:+0200
TZOFFSETTO:+0100
TZNAME:CET
DTSTART:20261025T010000
END:STANDARD
BEGIN:DAYLIGHT
TZOFFSETFROM:+0100
TZOFFSETTO:+0200
TZNAME:CEST
DTSTART:20270328T010000
END:DAYLIGHT
BEGIN:STANDARD
TZOFFSETFROM:+0200
TZOFFSETTO:+0100
TZNAME:CET
DTSTART:20271031T010000
END:STANDARD
END:VTIMEZONE
BEGIN:VEVENT
DTSTART;TZID=Europe/Paris:20260126T160000
DTEND;TZID=Europe/Paris:20260126T163000
DTSTAMP:20260422T194009
CREATED:20251218T112150Z
LAST-MODIFIED:20260128T114844Z
UID:52852-1769443200-1769445000@library.ie.edu
SUMMARY:Exploring Online Press Resources
DESCRIPTION:Explorando los recursos de prensa en línea \nAprenda a acceder y navegar por las principales plataformas de prensa digital para obtener noticias y conocimientos de los medios actualizados. \n26 de enero 15\,00 15\,30 \nRecorded session here
URL:https://library.ie.edu/event/exploring-online-press-resources-2-copy/
CATEGORIES:Online press
ATTACH;FMTTYPE=image/png:https://library.ie.edu/wp-content/uploads/2025/09/Online-Press-1.png
END:VEVENT
END:VCALENDAR