BEGIN:VCALENDAR
VERSION:2.0
PRODID:-//IE UNIVERSITY LIBRARY - ECPv6.15.17.1//NONSGML v1.0//EN
CALSCALE:GREGORIAN
METHOD:PUBLISH
X-WR-CALNAME:IE UNIVERSITY LIBRARY
X-ORIGINAL-URL:https://library.ie.edu
X-WR-CALDESC:Events for IE UNIVERSITY LIBRARY
REFRESH-INTERVAL;VALUE=DURATION:PT1H
X-Robots-Tag:noindex
X-PUBLISHED-TTL:PT1H
BEGIN:VTIMEZONE
TZID:Europe/Helsinki
BEGIN:DAYLIGHT
TZOFFSETFROM:+0200
TZOFFSETTO:+0300
TZNAME:EEST
DTSTART:20200329T010000
END:DAYLIGHT
BEGIN:STANDARD
TZOFFSETFROM:+0300
TZOFFSETTO:+0200
TZNAME:EET
DTSTART:20201025T010000
END:STANDARD
BEGIN:DAYLIGHT
TZOFFSETFROM:+0200
TZOFFSETTO:+0300
TZNAME:EEST
DTSTART:20210328T010000
END:DAYLIGHT
BEGIN:STANDARD
TZOFFSETFROM:+0300
TZOFFSETTO:+0200
TZNAME:EET
DTSTART:20211031T010000
END:STANDARD
BEGIN:DAYLIGHT
TZOFFSETFROM:+0200
TZOFFSETTO:+0300
TZNAME:EEST
DTSTART:20220327T010000
END:DAYLIGHT
BEGIN:STANDARD
TZOFFSETFROM:+0300
TZOFFSETTO:+0200
TZNAME:EET
DTSTART:20221030T010000
END:STANDARD
END:VTIMEZONE
BEGIN:VTIMEZONE
TZID:Europe/Madrid
BEGIN:DAYLIGHT
TZOFFSETFROM:+0100
TZOFFSETTO:+0200
TZNAME:CEST
DTSTART:20200329T010000
END:DAYLIGHT
BEGIN:STANDARD
TZOFFSETFROM:+0200
TZOFFSETTO:+0100
TZNAME:CET
DTSTART:20201025T010000
END:STANDARD
BEGIN:DAYLIGHT
TZOFFSETFROM:+0100
TZOFFSETTO:+0200
TZNAME:CEST
DTSTART:20210328T010000
END:DAYLIGHT
BEGIN:STANDARD
TZOFFSETFROM:+0200
TZOFFSETTO:+0100
TZNAME:CET
DTSTART:20211031T010000
END:STANDARD
BEGIN:DAYLIGHT
TZOFFSETFROM:+0100
TZOFFSETTO:+0200
TZNAME:CEST
DTSTART:20220327T010000
END:DAYLIGHT
BEGIN:STANDARD
TZOFFSETFROM:+0200
TZOFFSETTO:+0100
TZNAME:CET
DTSTART:20221030T010000
END:STANDARD
END:VTIMEZONE
BEGIN:VEVENT
DTSTART;TZID=Europe/Helsinki:20210428T123000
DTEND;TZID=Europe/Helsinki:20210428T133000
DTSTAMP:20260420T184622
CREATED:20210412T111824Z
LAST-MODIFIED:20210423T113838Z
UID:35514-1619613000-1619616600@library.ie.edu
SUMMARY:Bloomberg WEBINAR
DESCRIPTION:Serie de analistas: Estimaciones profundas – MODL \n28/04/21 12:30 – 13:30 \nPóngase en contacto con  IE Library  para registrarse. \n  \n 
URL:https://library.ie.edu/event/bloomberg-webinar-3/
CATEGORIES:Trainings
ATTACH;FMTTYPE=image/png:https://library.ie.edu/wp-content/uploads/2021/03/Bloomberg-trainings.png
END:VEVENT
BEGIN:VEVENT
DTSTART;TZID=Europe/Helsinki:20210427T170000
DTEND;TZID=Europe/Helsinki:20210427T180000
DTSTAMP:20260420T184622
CREATED:20210420T111458Z
LAST-MODIFIED:20210423T115849Z
UID:35742-1619542800-1619546400@library.ie.edu
SUMMARY:Bloomberg Training Session
DESCRIPTION:Training | Getting Started | Bloomberg Essentials OBT \nApril 27    2021 17:00 – 18:00 (Spanish time) \nContact IE Library to register and for more information on other Bloomberg Terminal trainings. \n 
URL:https://library.ie.edu/event/bloomberg-training-session-3/
CATEGORIES:Trainings
ATTACH;FMTTYPE=image/png:https://library.ie.edu/wp-content/uploads/2021/03/Bloomberg-trainings.png
END:VEVENT
BEGIN:VEVENT
DTSTART;TZID=Europe/Madrid:20210427T120000
DTEND;TZID=Europe/Madrid:20210427T130000
DTSTAMP:20260420T184622
CREATED:20210218T113819Z
LAST-MODIFIED:20210408T122416Z
UID:33812-1619524800-1619528400@library.ie.edu
SUMMARY:IE Library Training Session - Get to know IE Library
DESCRIPTION:Register here: https://clubs.ie.edu/ieuother/events
URL:https://library.ie.edu/event/ie-library-training-session-get-to-know-ie-library-8/
CATEGORIES:Trainings
ATTACH;FMTTYPE=image/jpeg:https://library.ie.edu/wp-content/uploads/2021/02/IG-post.jpg
END:VEVENT
BEGIN:VEVENT
DTSTART;TZID=Europe/Madrid:20210422T123000
DTEND;TZID=Europe/Madrid:20210422T133000
DTSTAMP:20260420T184622
CREATED:20210412T110203Z
LAST-MODIFIED:20210413T104601Z
UID:35502-1619094600-1619098200@library.ie.edu
SUMMARY:Bloomberg WEBINAR
DESCRIPTION:Analyst Series: Fixed Income and Idea Generation \n22/04/21 12:30 – 13:30 \nRegister here http://www.bloomberg.com/event-registration/?id=106824
URL:https://library.ie.edu/event/bloomberg-webinar/
CATEGORIES:Trainings
ATTACH;FMTTYPE=image/png:https://library.ie.edu/wp-content/uploads/2021/03/Bloomberg-trainings.png
END:VEVENT
BEGIN:VEVENT
DTSTART;TZID=Europe/Madrid:20210421T053000
DTEND;TZID=Europe/Madrid:20210421T180000
DTSTAMP:20260420T184622
CREATED:20210317T124939Z
LAST-MODIFIED:20210317T132326Z
UID:35136-1618983000-1619028000@library.ie.edu
SUMMARY:IE Library Training Session - Master in Finance
DESCRIPTION:MIF-EN/ABR-2021/A-1 \nAula Magna\, María de Molina 11 13\, 15
URL:https://library.ie.edu/event/ie-library-training-session-master-in-finance-mif-en-abr-2021-a-1/
CATEGORIES:Trainings
ATTACH;FMTTYPE=image/jpeg:https://library.ie.edu/wp-content/uploads/2021/03/FOTO-PARA-FORMACIONES.jpg
END:VEVENT
BEGIN:VEVENT
DTSTART;TZID=Europe/Madrid:20210420T170000
DTEND;TZID=Europe/Madrid:20210420T180000
DTSTAMP:20260420T184622
CREATED:20210420T110641Z
LAST-MODIFIED:20210420T111303Z
UID:35739-1618938000-1618941600@library.ie.edu
SUMMARY:Bloomberg Training Session
DESCRIPTION:Training | Getting Started | Bloomberg Essentials OBT \n20 April 2021 17:00 – 18:00 (Spanish time) \nContact IE Library to register and for more information on other Bloomberg Terminal trainings.
URL:https://library.ie.edu/event/bloomberg-training-session-2/
CATEGORIES:Trainings
ATTACH;FMTTYPE=image/png:https://library.ie.edu/wp-content/uploads/2021/03/Bloomberg-trainings.png
END:VEVENT
BEGIN:VEVENT
DTSTART;TZID=Europe/Helsinki:20210420T160000
DTEND;TZID=Europe/Helsinki:20210420T170000
DTSTAMP:20260420T184622
CREATED:20210218T113711Z
LAST-MODIFIED:20210416T121357Z
UID:33810-1618934400-1618938000@library.ie.edu
SUMMARY:IE Library Training Session - Get to know IE Library!
DESCRIPTION:Register here: https://clubs.ie.edu/ieuother/events
URL:https://library.ie.edu/event/ie-library-training-session-get-to-know-ie-library-7/
CATEGORIES:Trainings
ATTACH;FMTTYPE=image/jpeg:https://library.ie.edu/wp-content/uploads/2021/02/IG-post.jpg
END:VEVENT
BEGIN:VEVENT
DTSTART;TZID=Europe/Madrid:20210415T150000
DTEND;TZID=Europe/Madrid:20210415T153000
DTSTAMP:20260420T184622
CREATED:20210408T104038Z
LAST-MODIFIED:20210408T104602Z
UID:35420-1618498800-1618500600@library.ie.edu
SUMMARY:DIGITAL FINANCIAL TIMES (FT.COM) TRAININGS
DESCRIPTION:Link to the session
URL:https://library.ie.edu/event/digital-financial-times-ft-com-trainings/
CATEGORIES:Trainings
ATTACH;FMTTYPE=image/png:https://library.ie.edu/wp-content/uploads/2021/04/FT-trainings.png
END:VEVENT
BEGIN:VEVENT
DTSTART;TZID=Europe/Madrid:20210413T170000
DTEND;TZID=Europe/Madrid:20210413T180000
DTSTAMP:20260420T184622
CREATED:20210409T101808Z
LAST-MODIFIED:20210409T101925Z
UID:35465-1618333200-1618336800@library.ie.edu
SUMMARY:Bloomberg Training Session
DESCRIPTION:Training | Getting Started | Bloomberg Essentials OBT \n13 April 2021 17:00 – 18:00 (Spanish time) \nContact IE Library to register.
URL:https://library.ie.edu/event/bloomberg-training-session/
CATEGORIES:Trainings
ATTACH;FMTTYPE=image/png:https://library.ie.edu/wp-content/uploads/2021/03/Bloomberg-trainings.png
END:VEVENT
BEGIN:VEVENT
DTSTART;TZID=Europe/Madrid:20210413T120000
DTEND;TZID=Europe/Madrid:20210413T130000
DTSTAMP:20260420T184622
CREATED:20210218T113545Z
LAST-MODIFIED:20210413T120242Z
UID:33808-1618315200-1618318800@library.ie.edu
SUMMARY:IE Library Training Session - Get to know IE Library
DESCRIPTION:Recorded session here: VIDEO \n 
URL:https://library.ie.edu/event/ie-library-training-session-get-to-know-ie-library-6/
CATEGORIES:Trainings
ATTACH;FMTTYPE=image/jpeg:https://library.ie.edu/wp-content/uploads/2021/02/IG-post.jpg
END:VEVENT
BEGIN:VEVENT
DTSTART;TZID=Europe/Madrid:20210409T183000
DTEND;TZID=Europe/Madrid:20210409T200000
DTSTAMP:20260420T184622
CREATED:20210407T123130Z
LAST-MODIFIED:20210408T074030Z
UID:35418-1617993000-1617998400@library.ie.edu
SUMMARY:IE Library Training Session - AMP Advanced Management Program
DESCRIPTION:AMP Madrid MAR-2021 \nS 101   Serrano 99
URL:https://library.ie.edu/event/ie-library-training-session-amp-advanced-management-program/
CATEGORIES:Trainings
ATTACH;FMTTYPE=image/jpeg:https://library.ie.edu/wp-content/uploads/2021/03/FOTO-PARA-FORMACIONES.jpg
END:VEVENT
BEGIN:VEVENT
DTSTART;TZID=Europe/Madrid:20210406T160000
DTEND;TZID=Europe/Madrid:20210406T170000
DTSTAMP:20260420T184622
CREATED:20210218T113315Z
LAST-MODIFIED:20210415T115214Z
UID:33806-1617724800-1617728400@library.ie.edu
SUMMARY:IE Library Training Session - Get to know IE Library
DESCRIPTION:Recorded session here:  VIDEO
URL:https://library.ie.edu/event/ie-library-training-session-get-to-know-ie-library-5/
CATEGORIES:Trainings
ATTACH;FMTTYPE=image/jpeg:https://library.ie.edu/wp-content/uploads/2021/02/IG-post.jpg
END:VEVENT
BEGIN:VEVENT
DTSTART;TZID=Europe/Madrid:20210325T170000
DTEND;TZID=Europe/Madrid:20210325T173000
DTSTAMP:20260420T184622
CREATED:20210323T135011Z
LAST-MODIFIED:20210323T135011Z
UID:35371-1616691600-1616693400@library.ie.edu
SUMMARY:Library Services Presentation  -  LTECH   21  Mar 2021 M1
DESCRIPTION:LTECH 21 Mar 2021 M1 \nOn line
URL:https://library.ie.edu/event/library-services-presentation-ltech-21-mar-2021-m1/
CATEGORIES:Trainings
ATTACH;FMTTYPE=image/jpeg:https://library.ie.edu/wp-content/uploads/2021/03/FOTO-PARA-FORMACIONES.jpg
END:VEVENT
BEGIN:VEVENT
DTSTART;TZID=Europe/Madrid:20210323T120000
DTEND;TZID=Europe/Madrid:20210323T130000
DTSTAMP:20260420T184622
CREATED:20210218T113052Z
LAST-MODIFIED:20210323T084203Z
UID:33801-1616500800-1616504400@library.ie.edu
SUMMARY:IE Library Training Session - Get to know IE Library
DESCRIPTION:Register here: https://clubs.ie.edu/ieuother/events
URL:https://library.ie.edu/event/ie-library-training-session-get-to-know-ie-library-4/
CATEGORIES:Trainings
ATTACH;FMTTYPE=image/jpeg:https://library.ie.edu/wp-content/uploads/2021/02/IG-post.jpg
END:VEVENT
BEGIN:VEVENT
DTSTART;TZID=Europe/Madrid:20210316T160000
DTEND;TZID=Europe/Madrid:20210316T170000
DTSTAMP:20260420T184622
CREATED:20210218T112928Z
LAST-MODIFIED:20210309T200840Z
UID:33799-1615910400-1615914000@library.ie.edu
SUMMARY:IE Library Training Session - Get to know IE Library
DESCRIPTION:Register here: https://clubs.ie.edu/ieuother/events
URL:https://library.ie.edu/event/ie-library-training-session-get-to-know-ie-library-3/
CATEGORIES:Trainings
ATTACH;FMTTYPE=image/jpeg:https://library.ie.edu/wp-content/uploads/2021/02/IG-post.jpg
END:VEVENT
BEGIN:VEVENT
DTSTART;TZID=Europe/Madrid:20210309T120000
DTEND;TZID=Europe/Madrid:20210309T130000
DTSTAMP:20260420T184622
CREATED:20210218T112825Z
LAST-MODIFIED:20210416T101154Z
UID:33797-1615291200-1615294800@library.ie.edu
SUMMARY:IE Library Training Session - Get to know IE Library
DESCRIPTION:Recorder session here:VIDEO
URL:https://library.ie.edu/event/ie-library-training-session-get-to-know-ie-library-2/
CATEGORIES:Trainings
ATTACH;FMTTYPE=image/jpeg:https://library.ie.edu/wp-content/uploads/2021/02/IG-post.jpg
END:VEVENT
END:VCALENDAR