BEGIN:VCALENDAR
VERSION:2.0
PRODID:-//IE UNIVERSITY LIBRARY - ECPv6.15.17.1//NONSGML v1.0//EN
CALSCALE:GREGORIAN
METHOD:PUBLISH
X-ORIGINAL-URL:https://library.ie.edu
X-WR-CALDESC:Events for IE UNIVERSITY LIBRARY
REFRESH-INTERVAL;VALUE=DURATION:PT1H
X-Robots-Tag:noindex
X-PUBLISHED-TTL:PT1H
BEGIN:VTIMEZONE
TZID:Europe/Madrid
BEGIN:DAYLIGHT
TZOFFSETFROM:+0100
TZOFFSETTO:+0200
TZNAME:CEST
DTSTART:20200329T010000
END:DAYLIGHT
BEGIN:STANDARD
TZOFFSETFROM:+0200
TZOFFSETTO:+0100
TZNAME:CET
DTSTART:20201025T010000
END:STANDARD
BEGIN:DAYLIGHT
TZOFFSETFROM:+0100
TZOFFSETTO:+0200
TZNAME:CEST
DTSTART:20210328T010000
END:DAYLIGHT
BEGIN:STANDARD
TZOFFSETFROM:+0200
TZOFFSETTO:+0100
TZNAME:CET
DTSTART:20211031T010000
END:STANDARD
BEGIN:DAYLIGHT
TZOFFSETFROM:+0100
TZOFFSETTO:+0200
TZNAME:CEST
DTSTART:20220327T010000
END:DAYLIGHT
BEGIN:STANDARD
TZOFFSETFROM:+0200
TZOFFSETTO:+0100
TZNAME:CET
DTSTART:20221030T010000
END:STANDARD
END:VTIMEZONE
BEGIN:VEVENT
DTSTART;TZID=Europe/Madrid:20210311T170000
DTEND;TZID=Europe/Madrid:20210311T180000
DTSTAMP:20260419T182625
CREATED:20210309T202414Z
LAST-MODIFIED:20210309T202512Z
UID:34944-1615482000-1615485600@library.ie.edu
SUMMARY:The Economist - Sustainability and Supply Chains
DESCRIPTION:“Global supply chains are set for a decade of change in the 2020s. Factors such as climate change\, nationalism\, geopolitics and consumer preferences are all exerting pressure that will reshape how supply chains are configured”.\n\n\nJoin Head of Globalization\, Trade and Finance at The Economist John Ferguson tomorrow at 5PM to discover how sustainability trends are shaping supply chains. The role of higher education in meeting these challenges will also be discussed.\n\n\n\nDate/Time: 11thMarch 2021 @ 5PM\n\nTo register via IE Library subscription to The Economist with your IE credentials: https://webinars.on24.com/ProQuest/EIU
URL:https://library.ie.edu/event/the-economist-sustainability-and-supply-chains/
CATEGORIES:Partnerships
ATTACH;FMTTYPE=image/jpeg:https://library.ie.edu/wp-content/uploads/2021/03/THE-ECONOMIST-scaled.jpg
END:VEVENT
END:VCALENDAR